BEGIN:VCALENDAR
VERSION:2.0
PRODID:-//Encore Center for Performing Arts - ECPv6.15.20//NONSGML v1.0//EN
CALSCALE:GREGORIAN
METHOD:PUBLISH
X-WR-CALNAME:Encore Center for Performing Arts
X-ORIGINAL-URL:https://www.encorepresents.org
X-WR-CALDESC:Events for Encore Center for Performing Arts
REFRESH-INTERVAL;VALUE=DURATION:PT1H
X-Robots-Tag:noindex
X-PUBLISHED-TTL:PT1H
BEGIN:VTIMEZONE
TZID:America/Chicago
BEGIN:DAYLIGHT
TZOFFSETFROM:-0600
TZOFFSETTO:-0500
TZNAME:CDT
DTSTART:20240310T080000
END:DAYLIGHT
BEGIN:STANDARD
TZOFFSETFROM:-0500
TZOFFSETTO:-0600
TZNAME:CST
DTSTART:20241103T070000
END:STANDARD
BEGIN:DAYLIGHT
TZOFFSETFROM:-0600
TZOFFSETTO:-0500
TZNAME:CDT
DTSTART:20250309T080000
END:DAYLIGHT
BEGIN:STANDARD
TZOFFSETFROM:-0500
TZOFFSETTO:-0600
TZNAME:CST
DTSTART:20251102T070000
END:STANDARD
BEGIN:DAYLIGHT
TZOFFSETFROM:-0600
TZOFFSETTO:-0500
TZNAME:CDT
DTSTART:20260308T080000
END:DAYLIGHT
BEGIN:STANDARD
TZOFFSETFROM:-0500
TZOFFSETTO:-0600
TZNAME:CST
DTSTART:20261101T070000
END:STANDARD
END:VTIMEZONE
BEGIN:VEVENT
DTSTART;TZID=America/Chicago:20250508T190000
DTEND;TZID=America/Chicago:20250508T203000
DTSTAMP:20260424T045140
CREATED:20250225T202426Z
LAST-MODIFIED:20250506T161829Z
UID:10001693-1746730800-1746736200@www.encorepresents.org
SUMMARY:ECPA presents "An Intimate Evening with Radius featuring Michael St. Peter"
DESCRIPTION:Radius\, dubbed the #1 a cappella group in the US in 2023\, will be performing in Elmhurst for one night only!  This high-energy\, Chicago-based\, 5-piece powerhouse vocal band has carefully curated an evening just for you! \nMichael St. Peter\, an Elmhurst native\, is known for his “…warm\, beautiful\, and true” singing (Chicago Classical Review).  Beginning his career with the Chicago Opera Theatre and Lyric Opera of Chicago\, Michael went on to perform with the Hawai/i Symphony Orchestra and Haymarket Opera Company.  Michael received his Bachelor’s degree at The Julliard School and his Master’s degree from the Manhattan School of Music.  Michael has performed at the Lincoln Center and Carnegie Hall\, among others. \nMichael is thrilled to return to his hometown for a high-energy evening filled with mezmorizing harmonies and innovative arrangements of songs you know and love. \nJoin us for “An Intimate Evening with Radius\, featuring Michael St. Peter”.  The performance will be follwed by a Q& A session with all members of Radius. \nThis show is appropriate for all ages. \nCOMPLIMENTARY PARKING is located in the Edward-Elmhurst Health Center parking lot on the corner of Haven and Schiller Street\, just north of the Vyne on Haven apartment complex (south of Jewel-Osco)\, the Schiller Street Parking deck\, Police Station surface lot\, 105 S. York Street\, and along the train tracks (after 5pm).  See more parking options HERE.
URL:https://www.encorepresents.org/event/ecpa-presents-an-intimate-evening-with-radius-featuring-michael-st-peter/
LOCATION:Vyne on Haven\, 100 Haven Road\, Elmhurst\, IL\, 60126
CATEGORIES:ECPA
ATTACH;FMTTYPE=image/jpeg:https://www.encorepresents.org/wp-content/uploads/2025/03/AIEW-Radius-MSP-Generic-Social.jpg
END:VEVENT
BEGIN:VEVENT
DTSTART;TZID=America/Chicago:20250508T173000
DTEND;TZID=America/Chicago:20250508T203000
DTSTAMP:20260424T045140
CREATED:20250320T183855Z
LAST-MODIFIED:20250327T183708Z
UID:10001698-1746725400-1746736200@www.encorepresents.org
SUMMARY:EXCLUSIVE CAMPAIGN CELEBRATION & PERFORMANCE
DESCRIPTION:Content is protected.
URL:https://www.encorepresents.org/event/exclusive-campaign-celebration/
LOCATION:Vyne on Haven\, 100 Haven Road\, Elmhurst\, IL\, 60126
CATEGORIES:ECPA
END:VEVENT
END:VCALENDAR