BEGIN:VCALENDAR
VERSION:2.0
PRODID:-//Encore Center for Performing Arts - ECPv6.15.20//NONSGML v1.0//EN
CALSCALE:GREGORIAN
METHOD:PUBLISH
X-ORIGINAL-URL:https://www.encorepresents.org
X-WR-CALDESC:Events for Encore Center for Performing Arts
REFRESH-INTERVAL;VALUE=DURATION:PT1H
X-Robots-Tag:noindex
X-PUBLISHED-TTL:PT1H
BEGIN:VTIMEZONE
TZID:America/Chicago
BEGIN:DAYLIGHT
TZOFFSETFROM:-0600
TZOFFSETTO:-0500
TZNAME:CDT
DTSTART:20230312T080000
END:DAYLIGHT
BEGIN:STANDARD
TZOFFSETFROM:-0500
TZOFFSETTO:-0600
TZNAME:CST
DTSTART:20231105T070000
END:STANDARD
BEGIN:DAYLIGHT
TZOFFSETFROM:-0600
TZOFFSETTO:-0500
TZNAME:CDT
DTSTART:20240310T080000
END:DAYLIGHT
BEGIN:STANDARD
TZOFFSETFROM:-0500
TZOFFSETTO:-0600
TZNAME:CST
DTSTART:20241103T070000
END:STANDARD
BEGIN:DAYLIGHT
TZOFFSETFROM:-0600
TZOFFSETTO:-0500
TZNAME:CDT
DTSTART:20250309T080000
END:DAYLIGHT
BEGIN:STANDARD
TZOFFSETFROM:-0500
TZOFFSETTO:-0600
TZNAME:CST
DTSTART:20251102T070000
END:STANDARD
END:VTIMEZONE
BEGIN:VEVENT
DTSTART;TZID=America/Chicago:20240408T190000
DTEND;TZID=America/Chicago:20240408T200000
DTSTAMP:20260424T084821
CREATED:20240314T174453Z
LAST-MODIFIED:20240314T174453Z
UID:10000004-1712602800-1712606400@www.encorepresents.org
SUMMARY:Volunteer Call Out Meeting
DESCRIPTION:Join us Monday April 8 @ 7pm to get involved and support of mission!  Learn more about ECPA and how you can make a difference.  The meeting will take place in the large meeting room.
URL:https://www.encorepresents.org/event/volunteer-call-out-meeting/
LOCATION:Elmhurst Public Library\, 125 S Prospect Ave\, Elmhurst\, IL\, 60126\, United States
ATTACH;FMTTYPE=image/jpeg:https://www.encorepresents.org/wp-content/uploads/2024/03/IMG_6265.jpg
ORGANIZER;CN="ECPA":MAILTO:ecpaelmhurst@gmail.com
GEO:41.8983665;-87.9443558
X-APPLE-STRUCTURED-LOCATION;VALUE=URI;X-ADDRESS=Elmhurst Public Library 125 S Prospect Ave Elmhurst IL 60126 United States;X-APPLE-RADIUS=500;X-TITLE=125 S Prospect Ave:geo:-87.9443558,41.8983665
END:VEVENT
END:VCALENDAR