BEGIN:VCALENDAR
VERSION:2.0
PRODID:-//Encore Center for Performing Arts - ECPv6.15.20//NONSGML v1.0//EN
CALSCALE:GREGORIAN
METHOD:PUBLISH
X-ORIGINAL-URL:https://www.encorepresents.org
X-WR-CALDESC:Events for Encore Center for Performing Arts
REFRESH-INTERVAL;VALUE=DURATION:PT1H
X-Robots-Tag:noindex
X-PUBLISHED-TTL:PT1H
BEGIN:VTIMEZONE
TZID:America/Chicago
BEGIN:DAYLIGHT
TZOFFSETFROM:-0600
TZOFFSETTO:-0500
TZNAME:CDT
DTSTART:20220313T080000
END:DAYLIGHT
BEGIN:STANDARD
TZOFFSETFROM:-0500
TZOFFSETTO:-0600
TZNAME:CST
DTSTART:20221106T070000
END:STANDARD
BEGIN:DAYLIGHT
TZOFFSETFROM:-0600
TZOFFSETTO:-0500
TZNAME:CDT
DTSTART:20230312T080000
END:DAYLIGHT
BEGIN:STANDARD
TZOFFSETFROM:-0500
TZOFFSETTO:-0600
TZNAME:CST
DTSTART:20231105T070000
END:STANDARD
BEGIN:DAYLIGHT
TZOFFSETFROM:-0600
TZOFFSETTO:-0500
TZNAME:CDT
DTSTART:20240310T080000
END:DAYLIGHT
BEGIN:STANDARD
TZOFFSETFROM:-0500
TZOFFSETTO:-0600
TZNAME:CST
DTSTART:20241103T070000
END:STANDARD
END:VTIMEZONE
BEGIN:VEVENT
DTSTART;TZID=America/Chicago:20230309T190000
DTEND;TZID=America/Chicago:20230309T203000
DTSTAMP:20260424T081820
CREATED:20220727T183439Z
LAST-MODIFIED:20230309T172111Z
UID:10000057-1678388400-1678393800@www.encorepresents.org
SUMMARY:An Intimate Evening with... Dan Konopka
DESCRIPTION:OK Go’s “Here It Goes Again“ earned the band a Grammy Award for Best Music Video in 2007.  “The Treadmill Video” ushered in the You Tube era and has racked up over 59 million views to date.  As of 2020\, OK Go had over 1 billion views on their YouTube channel.  They continue to surprise their fans with music videos filled with wonder and surprise. \nBorn and raised in Elmhurst and a York High School graduate\, we are delighted to welcome Dan Konopka back to his hometown as he shares the story of OK Go.  Listen to how the band “found” the ideas for their elaborate music videos\, fun facts\, and behind-the-scenes tidbits about their creation.  Get up close and personal; get up to speed on what is happening now with the band and with Dan himself. \nA performance from York students with Dan Konopka will conclude this memorable night.  We are pleased to welcome and showcase Laney Toffler\, Will Blanchette\, and CJ Cannon for this special evening. \n  \nJoin us at our newest fundraising series\, “An Intimate Evening with… Dan Konopka.” \nTHE DETAILS: \n*Buik Recital Hall on the campus of Elmhurst University \n(inside Irion Hall at 190 South Prospect Avenue\, Elmhurst IL) \n  \n7:00pm\, Doors \n7:30pm\, 75 minute show begins \n*Held in conjunction with York Fine Arts Week\, Q&A will be moderated by Chris Gemkow\, York HS Music Teacher\, Amateur Musician Club Sponsor \n*General seating.  Limited tickets. Student tickets available. \n*Parking is available in the EU lot off Alexander Avenue.  Biking and walking are encouraged. \nThis event is made possible in part by York High School Performing Arts and Elmhurst University. \n  \nInterested in becoming a Sponsor of our series\,  “An Intimate Evening with…”?  Email ECPAElmhurst@gmail.com for information. \n  \n  \n  \n 
URL:https://www.encorepresents.org/event/an-intimate-evening-with-dan-konopka/
LOCATION:Irion Hall at Elmhurst University: Buik Recital Hall\, 190 S. Prospect Avenue\, Elmhurst\, IL\, 60125\, United States
CATEGORIES:ECPA
ATTACH;FMTTYPE=image/jpeg:https://www.encorepresents.org/wp-content/uploads/2022/07/Treadmill-2.jpg
END:VEVENT
END:VCALENDAR